BEGIN:VCALENDAR
VERSION:2.0
PRODID:-//ChamberMaster//Event Calendar 2.0//EN
METHOD:PUBLISH
X-PUBLISHED-TTL:P3D
REFRESH-INTERVAL:P3D
CALSCALE:GREGORIAN
BEGIN:VEVENT
DTSTART:20240701T193000Z
DTEND:20240701T203000Z
X-MICROSOFT-CDO-ALLDAYEVENT:FALSE
SUMMARY:3rd to 5th Grades July Choose Your Own Adventure Book Club
DESCRIPTION:This summer\, 3rd through 5th graders are invited to join our Choose Your Own Adventure Club! Each week\, we'll read a new adventure   and choose our path   then create a unique craft. This group will meet on Wednesdays from 2:30 pm to 3:30 pm\; unless there is a special summer program. The July 3rd to 5th schedule is as follows:\n\nJuly 3: Theme: Unicorns\n\nJuly 10: Theme: Mayans\n\nJuly 17: Theme: Ninjas\n\nJuly 24: Theme: Mystery
X-ALT-DESC;FMTTYPE=text/html:<span style="color:black"><span style="font-family:arial\,sans-serif"><span style="font-size:12.0pt">This summer\, 3<sup>rd</sup> through 5<sup>th</sup> graders are invited to join our Choose Your Own Adventure Club! Each week\, we&rsquo\;ll read a new adventure &ndash\; and choose our path &ndash\; then create a unique craft. This group will meet on Wednesdays from 2:30 pm to 3:30 pm\; unless there is a special summer program. The July 3<sup>rd</sup> to 5<sup>th</sup> schedule is as follows:</span></span></span><br />\n<strong><span style="color:black"><span style="font-family:arial\,sans-serif"><span style="font-size:12.0pt">July 3: </span></span></span></strong><span style="color:black"><span style="font-family:arial\,sans-serif"><span style="font-size:12.0pt">Theme: Unicorns</span></span></span><br />\n<strong><span style="color:black"><span style="font-family:arial\,sans-serif"><span style="font-size:12.0pt">July 10: </span></span></span></strong><span style="color:black"><span style="font-family:arial\,sans-serif"><span style="font-size:12.0pt">Theme: Mayans</span></span></span><br />\n<strong><span style="color:black"><span style="font-family:arial\,sans-serif"><span style="font-size:12.0pt">July 17:</span></span></span></strong><span style="color:black"><span style="font-family:arial\,sans-serif"><span style="font-size:12.0pt"> Theme: Ninjas</span></span></span><br />\n<strong><span style="color:black"><span style="font-family:arial\,sans-serif"><span style="font-size:12.0pt">July 24: </span></span></span></strong><span style="color:black"><span style="font-family:arial\,sans-serif"><span style="font-size:12.0pt">Theme: Mystery</span></span></span>
LOCATION:Perry Public Library Community Room
UID:e.3316.6759
SEQUENCE:3
DTSTAMP:20260424T055144Z
URL:https://business.perryiachamber.org/events/details/3rd-to-5th-grades-july-choose-your-own-adventure-book-club-6759
END:VEVENT

END:VCALENDAR
