BEGIN:VCALENDAR
VERSION:2.0
PRODID:-//ChamberMaster//Event Calendar 2.0//EN
METHOD:PUBLISH
X-PUBLISHED-TTL:P3D
REFRESH-INTERVAL:P3D
CALSCALE:GREGORIAN
BEGIN:VEVENT
DTSTART:20240704T150000Z
DTEND:20240705T030000Z
X-MICROSOFT-CDO-ALLDAYEVENT:FALSE
SUMMARY:4th of July Celebration in Perry
DESCRIPTION:4th of July Celebration in Perry\n\n10AM PARADE (Line-up at 9AM at East Perry Plaza)  \n\nVendors at Pattee Park All Day - NEW THIS YEAR...\n\n1-4PM Bingo in Shelter House\n\n2PM Perry Fine Arts Musical Extravaganza & Ice Cream Social at First United Methodist Church\n\n6-9:30PM Live Music by Stranger than Fiction at Pattee Park Bandshell\n\n9:30PM FIREWORKS\n\n\n\nMany thanks to Landus for Sponsoring the Parade!\n\n\n\nMany thanks to the following Bandshell Sponsors for making\n\nLive Music possible:\n\nBolton & Menk\n\nHy-Vee Food Store\n\nDallas County Hospital\n\nFareway Stores\, Inc\n\nFirst Interstate Bank\n\nITC Midwest\n\nLandus\n\nOsmundson Mfg Co.\n\nProgressive Foundry\n\nVan Wall Equipment\n\nStokely Lumber\n\nPerry Paint & Glass\n\nAffordable Quality Roofing\n\nHarland Ace Hardware\n\nCity of Perry\n\nPerry Chamber of Commerce\n\nHotel Pattee\n\nLa Poste
X-ALT-DESC;FMTTYPE=text/html:<span style="font-size:22px\;"><strong>4th of July Celebration in Perry</strong></span>\n<div>\n<p><span style="font-size:18px\;">10AM PARADE (Line-up at 9AM at East Perry Plaza) &nbsp\;<br />\nVendors at Pattee Park All Day - NEW THIS YEAR...<br />\n1-4PM Bingo in Shelter House<br />\n2PM Perry Fine Arts Musical Extravaganza &amp\; Ice Cream Social at First United Methodist Church<br />\n6-9:30PM Live Music by Stranger than Fiction at Pattee Park Bandshell<br />\n9:30PM FIREWORKS<br />\n<br />\n<strong>Many thanks to Landus for Sponsoring the Parade!<br />\n<br />\nMany thanks to the following Bandshell Sponsors for making<br />\nLive Music possible:</strong><br />\nBolton &amp\; Menk<br />\nHy-Vee Food Store<br />\nDallas County Hospital<br />\nFareway Stores\, Inc<br />\nFirst Interstate Bank<br />\nITC Midwest<br />\nLandus<br />\nOsmundson Mfg Co.<br />\nProgressive Foundry<br />\nVan Wall Equipment<br />\nStokely Lumber<br />\nPerry Paint &amp\; Glass<br />\nAffordable Quality Roofing<br />\nHarland Ace Hardware<br />\nCity of Perry<br />\nPerry Chamber of Commerce<br />\nHotel Pattee<br />\nLa Poste</span></p>\n</div>\n
LOCATION:
UID:e.3316.6712
SEQUENCE:3
DTSTAMP:20260424T054920Z
URL:https://business.perryiachamber.org/events/details/4th-of-july-celebration-in-perry-6712
END:VEVENT

END:VCALENDAR
