BEGIN:VCALENDAR
VERSION:2.0
PRODID:-//ChamberMaster//Event Calendar 2.0//EN
METHOD:PUBLISH
X-PUBLISHED-TTL:P3D
REFRESH-INTERVAL:P3D
CALSCALE:GREGORIAN
BEGIN:VEVENT
DTSTART:20260807T140000Z
DTEND:20260807T210000Z
X-MICROSOFT-CDO-ALLDAYEVENT:FALSE
SUMMARY:5th Annual Perry Chamber Golf Outing
DESCRIPTION:5th Annual Chamber Open Golf Outing\n\nGolf\, Lunch\, Games\, Contests\, Prizes!\n\n\n\n9 holes of golf with 2 tee time options: 9am or 1pm\n\nOption for full day of 18 holes as well!\n\nGolfer & Member Luncheon 11am-1pm\n\n\n\nSponsorship Opportunities:\n\nLunch Sponsor \n\nBeverage Cart Sponsor \n\nHole Sponsors
X-ALT-DESC;FMTTYPE=text/html:<strong><span style="font-size:20px\;">5th Annual Chamber Open Golf Outing<br />\nGolf\, Lunch\, Games\, Contests\, Prizes!</span></strong><br />\n<br />\n<strong><span style="font-size: 20px\;">9 holes of golf with 2 tee time options: 9am or 1pm<br />\nOption for full day of 18 holes as well!<br />\nGolfer &amp\; Member Luncheon 11am-1pm</span></strong><br />\n<br />\n<span style="font-size:18px\;"><span style="font-size:20px\;"><strong><span style="font-size:24px\;"><u>Sponsorship Opportunities:</u></span></strong></span><br />\n<u><strong>Lunch Sponsor</strong></u>&nbsp\;<br />\n<u><strong>Beverage Cart Sponsor</strong></u>&nbsp\;<br />\n<u><strong>Hole Sponsors</strong></u>&nbsp\;</span>
LOCATION:Perry Golf and Country Club 352 330th Street Perry
UID:e.3316.11965
SEQUENCE:3
DTSTAMP:20260420T221351Z
URL:https://business.perryiachamber.org/events/details/5th-annual-perry-chamber-golf-outing-11965
END:VEVENT

END:VCALENDAR
