BEGIN:VCALENDAR
VERSION:2.0
PRODID:-//ChamberMaster//Event Calendar 2.0//EN
METHOD:PUBLISH
X-PUBLISHED-TTL:P3D
REFRESH-INTERVAL:P3D
CALSCALE:GREGORIAN
BEGIN:VEVENT
DTSTART:20240702T220000Z
DTEND:20240703T000000Z
X-MICROSOFT-CDO-ALLDAYEVENT:FALSE
SUMMARY:Adventure in the World of Dungeons and Dragons: Tuesdays
DESCRIPTION:Join D&D enthusiast\, Alex\, as she invites players into the world of Dungeons and Dragons this June and July! Alex will guide players through the Lost Mine of Phandelver campaign\, a perfect beginner's campaign for anyone new to DND5E. Sessions are designed to lead you through character creation\, understanding the game\, and immersing yourself in the campaign. Whether you are new to Dungeons and Dragons\, or a more experienced player\, patrons 10 and older are invited to join us in the Perry Public Library Community Room on Tuesday nights in June and July for a thrilling adventure! We will meet from 5:00 pm to 7:00 pm on July 2\, July 9\, July 16\, July 23\, and July 30. This is a free program and no registration is required. For more information\, go to www.perry.lib.ia.us\, visit the library\, or call 515-465-3569.
X-ALT-DESC;FMTTYPE=text/html:<span style="color:black"><span style="font-family:arial\,sans-serif"><span style="font-size:12.0pt">Join D&amp\;D enthusiast\, Alex\, as she invites players into the world of Dungeons and Dragons this June and July! Alex will guide players through the <em>Lost Mine of Phandelver</em> campaign\, a perfect beginner&rsquo\;s campaign for anyone new to DND5E. Sessions are designed to lead you through character creation\, understanding the game\, and immersing yourself in the campaign. Whether you are new to Dungeons and Dragons\, or a more experienced player\, patrons 10 and older are invited to join us in the Perry Public Library Community Room on Tuesday nights in June and July for a thrilling adventure! We will meet from 5:00 pm to 7:00 pm on July 2\, July 9\, July 16\, July 23\, and July 30. This is a free program and no registration is required. For more information\, go to </span></span></span><a href="http://www.perry.lib.ia.us/"><span style="font-family:arial\,sans-serif"><span style="font-size:12.0pt">www.perry.lib.ia.us</span></span></a><span style="color:black"><span style="font-family:arial\,sans-serif"><span style="font-size:12.0pt">\, visit the library\, or call 515-465-3569.</span></span></span>
LOCATION:Perry Public Library Community Room
UID:e.3316.6746
SEQUENCE:3
DTSTAMP:20260424T060652Z
URL:https://business.perryiachamber.org/events/details/adventure-in-the-world-of-dungeons-and-dragons-tuesdays-6746
END:VEVENT

END:VCALENDAR
