BEGIN:VCALENDAR
VERSION:2.0
PRODID:-//ChamberMaster//Event Calendar 2.0//EN
METHOD:PUBLISH
X-PUBLISHED-TTL:P3D
REFRESH-INTERVAL:P3D
CALSCALE:GREGORIAN
BEGIN:VEVENT
DTSTART:20240710T140000Z
DTEND:20240710T210000Z
X-MICROSOFT-CDO-ALLDAYEVENT:FALSE
SUMMARY:Apprenticeship Readiness with Central Iowa Building and Construction Trades
DESCRIPTION:Explore Skilled Trades Careers \n\nApprenticeship Readiness with Central Iowa Building and Construction Trades\n\nLimited to 40 participants
X-ALT-DESC;FMTTYPE=text/html:Explore Skilled Trades Careers&nbsp\;<br />\nApprenticeship Readiness with Central Iowa Building and Construction Trades<br />\nLimited to 40 participants
LOCATION:Town Craft Upstairs Conference Room 1124 Willis Avenue Perry
UID:e.3316.6715
SEQUENCE:3
DTSTAMP:20260424T054707Z
URL:https://business.perryiachamber.org/events/details/apprenticeship-readiness-with-central-iowa-building-and-construction-trades-6715
END:VEVENT

END:VCALENDAR
