BEGIN:VCALENDAR
VERSION:2.0
PRODID:-//ChamberMaster//Event Calendar 2.0//EN
METHOD:PUBLISH
X-PUBLISHED-TTL:P3D
REFRESH-INTERVAL:P3D
CALSCALE:GREGORIAN
BEGIN:VEVENT
DTSTART:20260620T120000Z
DTEND:20260620T210000Z
X-MICROSOFT-CDO-ALLDAYEVENT:FALSE
SUMMARY:Bacoon Ride on the RRVT
DESCRIPTION:Bacoon Ride on the Raccoon River Valley Trail\n\nBe aware of increased bike traffic!
X-ALT-DESC;FMTTYPE=text/html:<span style="font-size:18px\;">Bacoon Ride on the Raccoon River Valley Trail<br />\nBe aware of increased bike traffic!</span>
LOCATION:Raccoon River Valley Trail with a stop at The Proletariat in Perry
UID:e.3316.11963
SEQUENCE:3
DTSTAMP:20260423T085309Z
URL:https://business.perryiachamber.org/events/details/bacoon-ride-on-the-rrvt-11963
END:VEVENT

END:VCALENDAR
