BEGIN:VCALENDAR
VERSION:2.0
PRODID:-//ChamberMaster//Event Calendar 2.0//EN
METHOD:PUBLISH
X-PUBLISHED-TTL:P3D
REFRESH-INTERVAL:P3D
CALSCALE:GREGORIAN
BEGIN:VEVENT
DTSTART:20240723T180000Z
DTEND:20240723T190000Z
X-MICROSOFT-CDO-ALLDAYEVENT:FALSE
SUMMARY:Book Tasting Adult Summer Library Activity
DESCRIPTION:The library stacks offer a wonderful variety of genres\, authors\, and titles! Do you ever wander the stacks and wish you could get a better "taste" of all we have to offer? This summer\, you can!  Join us for a Book Tasting on Tuesday\, July 23\, featuring samples from ten genres (along with some yummy treats). We will meet in the Carnegie Library Museum from 1:00 pm to 2:00 pm. This is a free adult activity and no registration is required. For more information\, go to www.perry.lib.ia.us\, visit the library\, or call 515-465-3569.
X-ALT-DESC;FMTTYPE=text/html:<span style="font-family:arial\,sans-serif"><span style="font-size:12.0pt">The library stacks offer a wonderful variety of genres\, authors\, and titles! Do you ever wander the stacks and wish you could get a better &ldquo\;taste&rdquo\; of all we have to offer? This summer\, you can!&nbsp\; Join us for a Book Tasting on Tuesday\, July 23\, featuring samples from ten genres (along with some yummy treats). We will meet in the Carnegie Library Museum from 1:00 pm to 2:00 pm. This is a free adult activity and no registration is required. For more information\, go to </span></span><a href="http://www.perry.lib.ia.us/"><span style="font-family:arial\,sans-serif"><span style="font-size:12.0pt">www.perry.lib.ia.us</span></span></a><span style="font-family:arial\,sans-serif"><span style="font-size:12.0pt">\, visit the library\, or call 515-465-3569.</span></span>
LOCATION:Carnegie Library Museum
UID:e.3316.6772
SEQUENCE:3
DTSTAMP:20260424T054301Z
URL:https://business.perryiachamber.org/events/details/book-tasting-adult-summer-library-activity-6772
END:VEVENT

END:VCALENDAR
