BEGIN:VCALENDAR
VERSION:2.0
PRODID:-//ChamberMaster//Event Calendar 2.0//EN
METHOD:PUBLISH
X-PUBLISHED-TTL:P3D
REFRESH-INTERVAL:P3D
CALSCALE:GREGORIAN
BEGIN:VEVENT
DTSTART:20260211T233000Z
DTEND:20260212T023000Z
X-MICROSOFT-CDO-ALLDAYEVENT:FALSE
SUMMARY:Boots in the Barn
DESCRIPTION:Interested in Beef Cattle Production? Join us for BOOTS IN THE BARN!\n\nThis program is for new and experienced producers.\n\nTopics include\; nutrition\, animal health\, animal selection\, and delivering a calf.\n\nWednesday in February (February 4\, 11\, 18 and 25)\n\nAt Town Craft Gallery\, 1122 Willis Ave.\, Perry\, IA.\n\nRegistration fee is $50 and includes meals and resource materials. Registration is required. \n\npresented by Iowa State University Extension and Outreach\, Boone and Dallas Counties.\n\nQuestions? Email Aleta@iastate.edu\n\nFor more information and to register go to: go.iastate.edu/C1KFTV\n\nIowa State University Extension beef specialist Chris Clark said the program will include some interactive learning and hands-on activities. "I hope to make it an interesting and interactive program with time for discussion and various interactive learning exercises. We plan to round out the program by using the dystocia model to learn about the birthing process and practice delivering calves."
X-ALT-DESC;FMTTYPE=text/html:<div><span style="font-size:18px\;">Interested in Beef Cattle Production? Join us for BOOTS IN THE BARN!</span></div>\n\n<div><span style="font-size:18px\;">This program is for new and experienced producers.</span></div>\n\n<div><span style="font-size:18px\;">Topics include\; nutrition\, animal health\, animal selection\, and delivering a calf.</span></div>\n\n<div><span style="font-size:18px\;">Wednesday in February (February 4\, 11\, 18 and 25)</span></div>\n\n<div><span style="font-size:18px\;">At Town Craft Gallery\, 1122 Willis Ave.\, Perry\, IA.</span></div>\n\n<div><span style="font-size:18px\;">Registration fee is $50 and includes meals and resource materials. Registration is required.&nbsp\;</span></div>\n\n<div><span style="font-size:18px\;">presented by Iowa State University Extension and Outreach\, Boone and Dallas Counties.</span></div>\n\n<div><span style="font-size:18px\;">Questions? Email Aleta@iastate.edu<br />\nFor more information and to register go to:&nbsp\;<a class="x1i10hfl xjbqb8w x1ejq31n x18oe1m7 x1sy0etr xstzfhl x972fbf x10w94by x1qhh985 x14e42zd x9f619 x1ypdohk xt0psk2 x3ct3a4 xdj266r x14z9mp xat24cr x1lziwak xexx8yu xyri2b x18d9i69 x1c1uobl x16tdsg8 x1hl2dhg xggy1nq x1a2a7pz xkrqix3 x1sur9pj x1fey0fg x1s688f" href="https://l.facebook.com/l.php?u=http%3A%2F%2Fgo.iastate.edu%2FC1KFTV%3Ffbclid%3DIwZXh0bgNhZW0CMTAAYnJpZBExRnJEaldoY0NDeWdDY1FvOHNydGMGYXBwX2lkDzUxNDc3MTU2OTIyODA2MQABHqK5xTgYIEIbs9Iq0ocZjcVa5CRDrPuSSULyxcqdrTIybolktcpva9N_7M0X_aem_sknd8qHgRCKn2Ibb_PSbug&amp\;h=AT31pHr9vhbFKq8pvedeq11EfkSUfMtt8KDHnf56SzwiPab6rhdQOoE7kxLbVuR2UrhqdUy9Ou0skpemaOptwQf_Kb9OeODGakiW-26tq1OEEIydV3ckBTu9Zt1pSc76uJ0oQQ2EbXfKRnCRr2GD1U8sCWrsXm6J&amp\;__tn__=-UK-R&amp\;c[0]=AT2DWBi3ltYxdqIq75kqNWtGCxtyLxzFYwJDSEg7A3eJSq59GYWjNvoxwBp71whZxvUCZMJh26J82M3-60RlU1jJHBJ704jSULH-4pMLUeFbl_b4Vp0QlERwudbthN2EerBPuWGS5MbuiyU7JFhOKiEdOrdk3Mq0Ezwqepu15A" rel="nofollow noreferrer" style="font-family: inherit\; background-color: transparent\; color: rgb(33\, 111\, 219)\; cursor: pointer\; text-decoration-line: none\; outline: none\; text-align: inherit\; font-weight: 600\; list-style-type: none\; box-sizing: border-box\; display: inline\; -webkit-tap-highlight-color: transparent\; touch-action: manipulation\; border-inline-width: 0px\; margin-inline: 0px\; border-inline-style: none\; padding-inline: 0px\; padding-bottom: 0px\; border-top-style: none\; border-bottom-width: 0px\; border-bottom-style: none\; border-top-width: 0px\; margin-bottom: 0px\; margin-top: 0px\; padding-top: 0px\;" tabindex="0" target="_blank">go.iastate.edu/C1KFTV</a><br />\n<span style="color: rgb(5\, 5\, 5)\; font-family: &quot\;segoe ui historic&quot\;\, &quot\;segoe ui&quot\;\, helvetica\, arial\, sans-serif\;">Iowa State University Extension beef specialist Chris Clark said the program will include some interactive learning and hands-on activities. &ldquo\;I hope to make it an interesting and interactive program with time for discussion and various interactive learning exercises. We plan to round out the program by using the dystocia model to learn about the birthing process and practice delivering calves.&rdquo\; </span></span></div>\n
LOCATION:Town Craft Gallery 1122 Willis Avenue Perry
UID:e.3316.11076
SEQUENCE:3
DTSTAMP:20260424T020256Z
URL:https://business.perryiachamber.org/events/details/boots-in-the-barn-02-11-2026-11076
END:VEVENT

END:VCALENDAR
