BEGIN:VCALENDAR
VERSION:2.0
PRODID:-//ChamberMaster//Event Calendar 2.0//EN
METHOD:PUBLISH
X-PUBLISHED-TTL:P3D
REFRESH-INTERVAL:P3D
CALSCALE:GREGORIAN
BEGIN:VEVENT
DTSTART:20240918T153000Z
DTEND:20240918T161500Z
X-MICROSOFT-CDO-ALLDAYEVENT:FALSE
SUMMARY:Budding Bookworms Storytime (Ages 2 to 5): Wednesdays
DESCRIPTION:The Perry Public Library is excited to announce our new storytime\, Budding Bookworms\, which combines our Toddler and Preschool storytimes into a fun\, engaging 45-minute program that includes books\, singing and dancing\, and simple crafts. Our goal is to provide caregivers with an opportunity to introduce their children to good literature\, encourage growth in children's literacy skills (reading\, talking\, singing\, playing\, and writing)\, and promote the library as an enjoyable place where learning is fun. The theme for September is Emotions and Feelings. We will read books and talk about some basic emotions and how to recognize them\, as well as learn some basic mindfulness tools and affirmations. We may even try a little bit of yoga! This program is free and open to the public. Registration is required by Tuesday\, September 3. To register\, visit www.perry.lib.ia.us and click on our Events Calendar\, call the library at 515-465-3569\, or speak with a librarian.
X-ALT-DESC;FMTTYPE=text/html:<span style="color:black"><span style="font-family:arial\,sans-serif"><span style="font-size:12.0pt">The Perry Public Library is excited to announce our new storytime\, Budding Bookworms\, which combines our Toddler and Preschool storytimes into a fun\, engaging 45-minute program that includes books\, singing and dancing\, and simple crafts. Our goal is to provide caregivers with an opportunity to introduce their children to good literature\, encourage growth in children&#39\;s literacy skills (reading\, talking\, singing\, playing\, and writing)\, and promote the library as an enjoyable place where learning is fun. The theme for September is Emotions and Feelings. We will read books and talk about some basic emotions and how to recognize them\, as well as learn some basic mindfulness tools and affirmations. We may even try a little bit of yoga! This program is free and open to the public. Registration is required by Tuesday\, September 3. </span></span></span><span style="font-family:arial\,sans-serif"><span style="font-size:12.0pt">To register\, visit </span></span><a href="http://www.perry.lib.ia.us/"><span style="font-family:arial\,sans-serif"><span style="font-size:12.0pt">www.perry.lib.ia.us</span></span></a><span style="font-family:arial\,sans-serif"><span style="font-size:12.0pt"> and click on our Events Calendar\, call the library at 515-465-3569\, or speak with a librarian.</span></span>
LOCATION:Perry Public Library Community Room
UID:e.3316.6808
SEQUENCE:3
DTSTAMP:20260424T030312Z
URL:https://business.perryiachamber.org/events/details/budding-bookworms-storytime-ages-2-to-5-wednesdays-09-18-2024-6808
END:VEVENT

END:VCALENDAR
