BEGIN:VCALENDAR
VERSION:2.0
PRODID:-//ChamberMaster//Event Calendar 2.0//EN
METHOD:PUBLISH
X-PUBLISHED-TTL:P3D
REFRESH-INTERVAL:P3D
CALSCALE:GREGORIAN
BEGIN:VEVENT
DTSTART:20280725T170000Z
DTEND:20280725T180000Z
X-MICROSOFT-CDO-ALLDAYEVENT:FALSE
SUMMARY:Chamber Ambassadors Meeting
DESCRIPTION:Perry Chamber Ambassadors are representatives of Chamber Member Businesses and Organizations that serve the Chamber and Community through volunteerism.
X-ALT-DESC;FMTTYPE=text/html:Perry Chamber Ambassadors are representatives of Chamber Member Businesses and Organizations that serve the Chamber and Community through volunteerism.
LOCATION:Town/Craft Center Upstairs Meeting Room 1124 Willis Avenue Perry\, IA 50220
UID:e.3316.4221
SEQUENCE:3
DTSTAMP:20260424T115300Z
URL:https://business.perryiachamber.org/events/details/chamber-ambassadors-meeting-07-25-2028-4221
END:VEVENT

END:VCALENDAR
