BEGIN:VCALENDAR
VERSION:2.0
PRODID:-//ChamberMaster//Event Calendar 2.0//EN
METHOD:PUBLISH
X-PUBLISHED-TTL:P3D
REFRESH-INTERVAL:P3D
CALSCALE:GREGORIAN
BEGIN:VEVENT
DTSTART:20260207T000000Z
DTEND:20260207T023000Z
X-MICROSOFT-CDO-ALLDAYEVENT:FALSE
SUMMARY:Clay Earring Workshops at Betsy Peterson Designs
DESCRIPTION:Betsy Peterson Designs x Bewtifulley Made\n\nClay Earring Workshops\n\n\n\nJoin guest artist\, Lauren Bewley of Bewtifulley Made\, in a clay earring workshop at Betsy Peterson Designs Gallery to create your own earrings!
X-ALT-DESC;FMTTYPE=text/html:<span style="font-size:18px\;">Betsy Peterson Designs x Bewtifulley Made<br />\nClay Earring Workshops<br />\n<br />\nJoin guest artist\, Lauren Bewley of Bewtifulley Made\, in a clay earring workshop at Betsy Peterson Designs Gallery to create your own earrings!</span>
LOCATION:Betsy Peterson Designs 1121 2nd Street Perry
UID:e.3316.11086
SEQUENCE:3
DTSTAMP:20260424T020309Z
URL:https://business.perryiachamber.org/events/details/clay-earring-workshops-at-betsy-peterson-designs-11086
END:VEVENT

END:VCALENDAR
