BEGIN:VCALENDAR
VERSION:2.0
PRODID:-//ChamberMaster//Event Calendar 2.0//EN
METHOD:PUBLISH
X-PUBLISHED-TTL:P3D
REFRESH-INTERVAL:P3D
CALSCALE:GREGORIAN
BEGIN:VEVENT
DTSTART:20240724T200000Z
DTEND:20240724T220000Z
X-MICROSOFT-CDO-ALLDAYEVENT:FALSE
SUMMARY:Community Health & Job Fair
DESCRIPTION:Community Health & Job Fair\n\nHelpful Information on Community & Health Resources and more!\n\nFree non-perishable food items\n\nFree\, fresh produce\n\nJob Resources
X-ALT-DESC;FMTTYPE=text/html:<span style="font-size:18px\;">Community Health &amp\; Job Fair<br />\nHelpful Information on Community &amp\; Health Resources and more!<br />\nFree non-perishable food items<br />\nFree\, fresh produce<br />\nJob Resources</span>
LOCATION:McCreary Community Center 1800 Pattee Street Perry
UID:e.3316.6793
SEQUENCE:3
DTSTAMP:20260424T054534Z
URL:https://business.perryiachamber.org/events/details/community-health-job-fair-6793
END:VEVENT

END:VCALENDAR
