BEGIN:VCALENDAR
VERSION:2.0
PRODID:-//ChamberMaster//Event Calendar 2.0//EN
METHOD:PUBLISH
X-PUBLISHED-TTL:P3D
REFRESH-INTERVAL:P3D
CALSCALE:GREGORIAN
BEGIN:VEVENT
DTSTART:20260315T143000Z
DTEND:20260315T163000Z
X-MICROSOFT-CDO-ALLDAYEVENT:FALSE
SUMMARY:Critter Crime Geocache Challenge
DESCRIPTION:There's been a crime committed at Kuehn Conservation and we need your help to figure out "Who done it?"\n\n\nThere's been a crime committed at Kuehn Conservation and we need your help to figure out "Who done it?" Participants will learn how to use a GPS to find clues hidden around Kuehn to solve this critter crime mystery.
X-ALT-DESC;FMTTYPE=text/html:<p><span style="font-size:18px\;">There&rsquo\;s been a crime committed at Kuehn Conservation and we need your help to figure out &ldquo\;Who done it?&rdquo\;</span></p>\n\n<div>\n<p><span style="font-size:18px\;">There&rsquo\;s been a crime committed at Kuehn Conservation and we need your help to figure out &ldquo\;Who done it?&rdquo\; Participants will learn how to use a GPS to find clues hidden around Kuehn to solve this critter crime mystery.</span></p>\n</div>\n
LOCATION:Kuehn Conservation area 32849 Houston Ave Earlham\, IA 50072
UID:e.3316.11562
SEQUENCE:3
DTSTAMP:20260424T002312Z
URL:https://business.perryiachamber.org/events/details/critter-crime-geocache-challenge-11562
END:VEVENT

END:VCALENDAR
