BEGIN:VCALENDAR
VERSION:2.0
PRODID:-//ChamberMaster//Event Calendar 2.0//EN
METHOD:PUBLISH
X-PUBLISHED-TTL:P3D
REFRESH-INTERVAL:P3D
CALSCALE:GREGORIAN
BEGIN:VEVENT
DTSTART:20260313T140000Z
DTEND:20260313T160000Z
X-MICROSOFT-CDO-ALLDAYEVENT:FALSE
SUMMARY:Dallas County Volunteer Days!
DESCRIPTION:Looking for a meaningful way to spend your company VTO time? DCCB is hosting volunteer days the second Friday of each month.\n\n\n\n\n\nLooking for a meaningful way to spend your company VTO time? Dallas County Conservation is hosting volunteer days the second Friday of each month this spring\, and we would love to have you and your colleagues join us. Participants will make a difference in their local ecosystems through habitat restoration\, invasive species removal\, and other park improvement projects. Register for more information.
X-ALT-DESC;FMTTYPE=text/html:<div>\n<div>\n<p><span style="font-size:18px\;">Looking for a meaningful way to spend your company VTO time? DCCB is hosting volunteer days the second Friday of each month.</span></p>\n</div>\n</div>\n\n<div>\n<div>\n<p><span style="font-size:18px\;">Looking for a meaningful way to spend your company VTO time? Dallas County Conservation is hosting volunteer days the second Friday of each month this spring\, and we would love to have you and your colleagues join us. Participants will make a difference in their local ecosystems through habitat restoration\, invasive species removal\, and other park improvement projects. Register for more information.</span></p>\n</div>\n</div>\n
LOCATION:Trindle Park 3555 Richland Circle Van Meter\, IA 50261
UID:e.3316.11560
SEQUENCE:3
DTSTAMP:20260424T002358Z
URL:https://business.perryiachamber.org/events/details/dallas-county-volunteer-days-11560
END:VEVENT

END:VCALENDAR
