BEGIN:VCALENDAR
VERSION:2.0
PRODID:-//ChamberMaster//Event Calendar 2.0//EN
METHOD:PUBLISH
X-PUBLISHED-TTL:P3D
REFRESH-INTERVAL:P3D
CALSCALE:GREGORIAN
BEGIN:VEVENT
DTSTART:20240724T150000Z
DTEND:20240724T190000Z
X-MICROSOFT-CDO-ALLDAYEVENT:FALSE
SUMMARY:DCH Senior Expo
DESCRIPTION:Free admission for seniors! The 2nd floor of the main south atrium level will be converted into a vendor show with a wide range of services available to assist seniors in living their best lives. We will also have free food and an opportunity to earn prizes by visiting with all of our vendors. Classes will also be held\, and vitals can be checked by nursing students in the Senior Life Solutions space.
X-ALT-DESC;FMTTYPE=text/html:<span style="font-size:18px\;">Free admission for seniors! The 2nd floor of the main south atrium level will be converted into a vendor show with a wide range of services available to assist seniors in living their best lives. We will also have free food and an opportunity to earn prizes by visiting with all of our vendors. Classes will also be held\, and vitals can be checked by nursing students in the Senior Life Solutions space.</span>
LOCATION:Dallas County Hospital\, 610 10th St. in Perry\, IA
UID:e.3316.6726
SEQUENCE:3
DTSTAMP:20260424T054108Z
URL:https://business.perryiachamber.org/events/details/dch-senior-expo-6726
END:VEVENT

END:VCALENDAR
