BEGIN:VCALENDAR
VERSION:2.0
PRODID:-//ChamberMaster//Event Calendar 2.0//EN
METHOD:PUBLISH
X-PUBLISHED-TTL:P3D
REFRESH-INTERVAL:P3D
CALSCALE:GREGORIAN
BEGIN:VEVENT
DTSTART:20241012T150000Z
DTEND:20241012T190000Z
X-MICROSOFT-CDO-ALLDAYEVENT:FALSE
SUMMARY:Fall Farmers Market
DESCRIPTION:Join us for the 2024 Fall Farmers Market at the McCreary Rec Center! Reconnect with summer vendors and new local vendors offering seasonal goodies and more!\n\n \n\n \n\nContact the Perry Chamber for more information and to participate as a vendor: info@PerryIAChamber.org or (515)465-4601.
X-ALT-DESC;FMTTYPE=text/html:<div class="xdj266r x11i5rnm xat24cr x1mh8g0r x1vvkbs" style="margin: 0px\; overflow-wrap: break-word\; font-family: &quot\;Segoe UI Historic&quot\;\, &quot\;Segoe UI&quot\;\, Helvetica\, Arial\, sans-serif\; color: rgb(5\, 5\, 5)\; font-size: 15px\;"><span style="font-size:18px\;">Join us for the 2024&nbsp\;Fall Farmers Market at the McCreary Rec Center! Reconnect with summer vendors and new local vendors offering seasonal goodies and more!</span></div>\n\n<div class="x11i5rnm xat24cr x1mh8g0r x1vvkbs xtlvy1s" style="margin: 0.5em 0px 0px\; overflow-wrap: break-word\; font-family: &quot\;Segoe UI Historic&quot\;\, &quot\;Segoe UI&quot\;\, Helvetica\, Arial\, sans-serif\; color: rgb(5\, 5\, 5)\; font-size: 15px\;">&nbsp\;</div>\n\n<div class="x11i5rnm xat24cr x1mh8g0r x1vvkbs xtlvy1s" style="margin: 0.5em 0px 0px\; overflow-wrap: break-word\; font-family: &quot\;Segoe UI Historic&quot\;\, &quot\;Segoe UI&quot\;\, Helvetica\, Arial\, sans-serif\; color: rgb(5\, 5\, 5)\; font-size: 15px\;">&nbsp\;</div>\n\n<div class="x11i5rnm xat24cr x1mh8g0r x1vvkbs xtlvy1s" style="margin: 0.5em 0px 0px\; overflow-wrap: break-word\; font-family: &quot\;Segoe UI Historic&quot\;\, &quot\;Segoe UI&quot\;\, Helvetica\, Arial\, sans-serif\; color: rgb(5\, 5\, 5)\; font-size: 15px\;"><span style="font-size:18px\;">Contact the Perry Chamber for more information and to participate as a vendor: info@PerryIAChamber.org or (515)465-4601.</span><br />\n<br />\n<br />\n&nbsp\;</div>\n
LOCATION:McCreary Community Building (Rec Center Gym) 1800 Pattee Street Perry\, IA
UID:e.3316.6877
SEQUENCE:3
DTSTAMP:20260423T165610Z
URL:https://business.perryiachamber.org/events/details/fall-farmers-market-6877
END:VEVENT

END:VCALENDAR
