BEGIN:VCALENDAR
VERSION:2.0
PRODID:-//ChamberMaster//Event Calendar 2.0//EN
METHOD:PUBLISH
X-PUBLISHED-TTL:P3D
REFRESH-INTERVAL:P3D
CALSCALE:GREGORIAN
BEGIN:VEVENT
DTSTART:20260213T220000Z
DTEND:20260214T010000Z
X-MICROSOFT-CDO-ALLDAYEVENT:FALSE
SUMMARY:February Sip & Shop
DESCRIPTION:Grab your Gal Pals (or make it a date!) and enjoy an after hours shopping experience at Perry businesses on Friday\, February 13th\, 4-7pm.\n\nShop warm-weather and spring apparel\, Valentine's gifts\, d cor\, and more! Perfect for a Girls Night Out or Date Night!\n\nRefreshments and in-store offerings vary per location.
X-ALT-DESC;FMTTYPE=text/html:<div class="x11i5rnm xat24cr x1mh8g0r x1vvkbs xdj266r" style="margin: 0px\; overflow-wrap: break-word\; font-family: &quot\;Segoe UI Historic&quot\;\, &quot\;Segoe UI&quot\;\, Helvetica\, Arial\, sans-serif\; color: rgb(5\, 5\, 5)\; font-size: 15px\;"><span style="font-size:18px\;">Grab your Gal Pals (or make it a date!) and enjoy an after hours shopping experience at Perry businesses on Friday\, February 13th\, 4-7pm.</span></div>\n\n<div class="x11i5rnm xat24cr x1mh8g0r x1vvkbs xtlvy1s" style="margin: 0.5em 0px 0px\; overflow-wrap: break-word\; font-family: &quot\;Segoe UI Historic&quot\;\, &quot\;Segoe UI&quot\;\, Helvetica\, Arial\, sans-serif\; color: rgb(5\, 5\, 5)\; font-size: 15px\;"><span style="font-size:18px\;">Shop warm-weather and spring apparel\, Valentine&#39\;s gifts\, d&eacute\;cor\, and more! Perfect for a Girls Night Out or Date Night!</span></div>\n\n<div class="x11i5rnm xat24cr x1mh8g0r x1vvkbs xtlvy1s" style="margin: 0.5em 0px 0px\; overflow-wrap: break-word\; font-family: &quot\;Segoe UI Historic&quot\;\, &quot\;Segoe UI&quot\;\, Helvetica\, Arial\, sans-serif\; color: rgb(5\, 5\, 5)\; font-size: 15px\;"><span style="font-size:18px\;">Refreshments and in-store offerings vary per location.&nbsp\;</span></div>\n
LOCATION:Perry Merchants
UID:e.3316.10871
SEQUENCE:3
DTSTAMP:20260424T020020Z
URL:https://business.perryiachamber.org/events/details/february-sip-shop-10871
END:VEVENT

END:VCALENDAR
