BEGIN:VCALENDAR
VERSION:2.0
PRODID:-//ChamberMaster//Event Calendar 2.0//EN
METHOD:PUBLISH
X-PUBLISHED-TTL:P3D
REFRESH-INTERVAL:P3D
CALSCALE:GREGORIAN
BEGIN:VEVENT
DTSTART:20240919T230000Z
DTEND:20240920T000000Z
X-MICROSOFT-CDO-ALLDAYEVENT:FALSE
SUMMARY:Free Workshop: LSVT Big Physical & Occupational Therapy
DESCRIPTION:Free Workshop:  LSVT Big Physical & Occupational Therapy\n\nEmpowering People to Live Bigger & Better\n\nFor those with Parkinson's Disease\, other neurological conditions and their caregivers/family.
X-ALT-DESC;FMTTYPE=text/html:<span style="font-size:18px\;">Free Workshop:&nbsp\; LSVT Big Physical &amp\; Occupational Therapy<br />\nEmpowering People to Live Bigger &amp\; Better<br />\nFor those with Parkinson&#39\;s Disease\, other neurological conditions and their caregivers/family.</span>
LOCATION:Dallas County Hospital Wellness Center\, Room 1 610 10th Street
UID:e.3316.6846
SEQUENCE:3
DTSTAMP:20260423T234929Z
URL:https://business.perryiachamber.org/events/details/free-workshop-lsvt-big-physical-occupational-therapy-6846
END:VEVENT

END:VCALENDAR
