BEGIN:VCALENDAR
VERSION:2.0
PRODID:-//ChamberMaster//Event Calendar 2.0//EN
METHOD:PUBLISH
X-PUBLISHED-TTL:P3D
REFRESH-INTERVAL:P3D
CALSCALE:GREGORIAN
BEGIN:VEVENT
DTSTART;VALUE=DATE:20260303
DTEND;VALUE=DATE:20260314
TRANSP:TRANSPARENT
X-MICROSOFT-CDO-ALLDAYEVENT:TRUE
SUMMARY:Glissman and Dayton opening for the Season
DESCRIPTION:Glissman Lodge and Dayton Stagecoach Inn will be opening for the season on March 13\, 2026. Get your Spring Break reservations in before they are all booked up. Make your reservation Here!
X-ALT-DESC;FMTTYPE=text/html:<span style="font-size:18px\;"><span style="color:#14140C"><span style="font-family:arial\,sans-serif">Glissman Lodge and Dayton Stagecoach Inn will be opening for the season on March 13\, 2026. Get your Spring Break reservations in before they are all booked up. Make your reservation <a href="https://gcc02.safelinks.protection.outlook.com/?url=https%3A%2F%2Fwww.mycountyparks.com%2FCounty%2FDallas&amp\;data=05%7C02%7Cjeni.baker%40dallascountyiowa.gov%7Cb75cc242737348032af908de79313d3d%7C890705f6b0bf4008a8e5bdf1366507c1%7C0%7C0%7C639081449571324468%7CUnknown%7CTWFpbGZsb3d8eyJFbXB0eU1hcGkiOnRydWUsIlYiOiIwLjAuMDAwMCIsIlAiOiJXaW4zMiIsIkFOIjoiTWFpbCIsIldUIjoyfQ%3D%3D%7C0%7C%7C%7C&amp\;sdata=0Abw6YMnBdUMC5ckz%2B20khBmZ1Omn4f5UPUgdR%2F1gu4%3D&amp\;reserved=0" style="transition:color 333ms cubic-bezier(0.45\, 0.45\, 0.45\, 1)\, background-color 333ms cubic-bezier(0.45\, 0.45\, 0.45\, 1)\;user-select:auto\;box-sizing:inherit\;" target="_blank"><span style="color:#515B7F">Here</span></a>!</span></span></span>
LOCATION:
UID:e.3316.11564
SEQUENCE:3
DTSTAMP:20260424T002558Z
URL:https://business.perryiachamber.org/events/details/glissman-and-dayton-opening-for-the-season-11564
END:VEVENT

END:VCALENDAR
