BEGIN:VCALENDAR
VERSION:2.0
PRODID:-//ChamberMaster//Event Calendar 2.0//EN
METHOD:PUBLISH
X-PUBLISHED-TTL:P3D
REFRESH-INTERVAL:P3D
CALSCALE:GREGORIAN
BEGIN:VEVENT
DTSTART:20240710T223000Z
DTEND:20240710T233000Z
X-MICROSOFT-CDO-ALLDAYEVENT:FALSE
SUMMARY:Heartland Church of Christ Free Community Supper\, 14417 J Ave\, Perry
DESCRIPTION:All are welcome to join us at Heartland Church of Christ\, 14417 J Ave\, Perry\, for supper on the 2nd Wednesday of every month - no charge. Take a night off cooking and let us serve you!
X-ALT-DESC;FMTTYPE=text/html:<span style="font-size:18px\;">All are welcome to join us at Heartland Church of Christ\, 14417 J Ave\, Perry\, for supper on the 2nd Wednesday of every month - no charge. Take a night off cooking and let us serve you!</span>
LOCATION:Heartland Church of Christ 14417 J Ave\, Perry\, IA 50220
UID:e.3316.1523
SEQUENCE:3
DTSTAMP:20260424T055658Z
URL:https://business.perryiachamber.org/events/details/heartland-church-of-christ-free-community-supper-14417-j-ave-perry-07-10-2024-1523
END:VEVENT

END:VCALENDAR
