BEGIN:VCALENDAR
VERSION:2.0
PRODID:-//ChamberMaster//Event Calendar 2.0//EN
METHOD:PUBLISH
X-PUBLISHED-TTL:P3D
REFRESH-INTERVAL:P3D
CALSCALE:GREGORIAN
BEGIN:VEVENT
DTSTART:20240923T213000Z
DTEND:20240923T223000Z
X-MICROSOFT-CDO-ALLDAYEVENT:FALSE
SUMMARY:Hometown Heritage at the Carnegie Library Museum Presents: Autumn Afternoon Tea
DESCRIPTION:Come join the Carnegie Library Museum as we enjoy an autumn-themed tea on Monday\, September 23\, from 4:30 pm to 5:30 pm. When the weather starts turning cooler\, we think of those comforting autumn foods and drinks\, so why not incorporate that into a wonderful tea party? During this tea\, we will be enjoying teas that have an autumn touch\; think pumpkin\, cinnamon\, and apple. Plus\, we'll sample tea sandwiches\, scones\, mini apple tarts\, and shortbread cookies. Tickets for the Autumn Afternoon Tea will be available for purchase at the Perry Public Library beginning August 26. They are $15 per person and available while supplies last. For more information or to purchase tickets\, call 515-465-3569\, or come to the Perry Public Library.
X-ALT-DESC;FMTTYPE=text/html:<span style="color:black"><span style="font-family:arial\,sans-serif"><span style="font-size:12.0pt">Come join the Carnegie Library Museum as we enjoy an autumn-themed tea on Monday\, September 23\, from 4:30 pm to 5:30 pm. When the weather starts turning cooler\, we think of those comforting autumn foods and drinks\, so why not incorporate that into a wonderful tea party? During this tea\, we will be enjoying teas that have an autumn touch\; think pumpkin\, cinnamon\, and apple. Plus\, we&rsquo\;ll sample tea sandwiches\, scones\, mini apple tarts\, and shortbread cookies. Tickets for the Autumn Afternoon Tea will be available for purchase at the Perry Public Library beginning August 26. They are $15 per person and available while supplies last. For more information or to purchase tickets\, call 515-465-3569\, or come to the Perry Public Library.&nbsp\;</span></span></span>
LOCATION:Carnegie Library Museum
UID:e.3316.6836
SEQUENCE:3
DTSTAMP:20260423T235504Z
URL:https://business.perryiachamber.org/events/details/hometown-heritage-at-the-carnegie-library-museum-presents-autumn-afternoon-tea-6836
END:VEVENT

END:VCALENDAR
