BEGIN:VCALENDAR
VERSION:2.0
PRODID:-//ChamberMaster//Event Calendar 2.0//EN
METHOD:PUBLISH
X-PUBLISHED-TTL:P3D
REFRESH-INTERVAL:P3D
CALSCALE:GREGORIAN
BEGIN:VEVENT
DTSTART:20240719T153000Z
DTEND:20240719T173000Z
X-MICROSOFT-CDO-ALLDAYEVENT:FALSE
SUMMARY:ISU Extension: Travel Adventure (K-5th Grades)
DESCRIPTION:Kids in Kindergarten through 5th grades are invited to join us for an exciting ISU Extension program on Friday\, July 19\, from 10:30 am to 12:30 pm. For this program\, participants are invited to\, " Choose your own travel destination anywhere from the exotic jungles of Africa to the beauty of mountains at Bryce Canyon in Utah to kayaking in Blue Heron Lake in West Des Moines\, Iowa. Come on an exciting 2- hour adventure." Registration is required for this program by July 18\, along with a minimum number of participants. Please reserve your space early at www.perry.lib.ia.us\, by visiting the library\, or by calling 515-465-3569.
X-ALT-DESC;FMTTYPE=text/html:<span style="color:black"><span style="font-family:arial\,sans-serif"><span style="font-size:12.0pt">Kids in Kindergarten through 5<sup>th</sup> grades are invited to join us for an exciting ISU Extension program on Friday\, July 19\, from 10:30 am to 12:30 pm. For this program\, participants are invited to\, &ldquo\; Choose your own travel destination anywhere from the exotic jungles of Africa to the beauty of mountains at Bryce Canyon in Utah to kayaking in Blue Heron Lake in West Des Moines\, Iowa. Come on an exciting 2- hour adventure.&rdquo\; <strong>Registration is required for this program by July 18\, along with a minimum number of participants. </strong>Please reserve your space early at </span></span></span><span style="font-family:arial\,sans-serif"><span style="font-size:12.0pt">www.perry.lib.ia.us<span style="color:black">\, by visiting the library\, or by calling 515-465-3569.</span></span></span>
LOCATION:Perry Public Library Community Room
UID:e.3316.6770
SEQUENCE:3
DTSTAMP:20260424T054446Z
URL:https://business.perryiachamber.org/events/details/isu-extension-travel-adventure-k-5th-grades-6770
END:VEVENT

END:VCALENDAR
