BEGIN:VCALENDAR
VERSION:2.0
PRODID:-//ChamberMaster//Event Calendar 2.0//EN
METHOD:PUBLISH
X-PUBLISHED-TTL:P3D
REFRESH-INTERVAL:P3D
CALSCALE:GREGORIAN
BEGIN:VEVENT
DTSTART:20260314T140000Z
DTEND:20260314T160000Z
X-MICROSOFT-CDO-ALLDAYEVENT:FALSE
SUMMARY:New Volunteer Training- Volunteer Water Quality Monitoring Program
DESCRIPTION:The Dallas County Volunteer Water Quality Monitoring program collects monthly data at over 30 sites along waterways. Volunteer today!\n\n\n\n\n\nIn late 2023\, the Dallas County Volunteer Water Quality Monitoring Program (DCVWQMP) began collecting monthly water quality data from over 30 sites along our rivers and creeks with a team of dedicated volunteers. If you are ready to learn about our monitoring procedures and adopt a site (or sites) for monthly monitoring\, then this training is for you! You can contact Zach Moss directly at zach.moss@dallascountyiowa.gov to see if the DCVWQMP is a good fit for you.
X-ALT-DESC;FMTTYPE=text/html:<div>\n<div>\n<p><span style="font-size:18px\;">The Dallas County Volunteer Water Quality Monitoring program collects monthly data at over 30 sites along waterways. Volunteer today!</span></p>\n</div>\n</div>\n\n<div>\n<div>\n<p><span style="font-size:18px\;">In late 2023\, the Dallas County Volunteer Water Quality Monitoring Program (DCVWQMP) began collecting monthly water quality data from over 30 sites along our rivers and creeks with a team of dedicated volunteers. If you are ready to learn about our monitoring procedures and adopt a site (or sites) for monthly monitoring\, then this training is for you! You can contact Zach Moss directly at zach.moss@dallascountyiowa.gov to see if the DCVWQMP is a good fit for you.</span></p>\n</div>\n</div>\n
LOCATION:Forest Park Museum and Arboretum 14581 K Avenue Perry\, IA 50220
UID:e.3316.11561
SEQUENCE:3
DTSTAMP:20260424T002610Z
URL:https://business.perryiachamber.org/events/details/new-volunteer-training-volunteer-water-quality-monitoring-program-11561
END:VEVENT

END:VCALENDAR
