BEGIN:VCALENDAR
VERSION:2.0
PRODID:-//ChamberMaster//Event Calendar 2.0//EN
METHOD:PUBLISH
X-PUBLISHED-TTL:P3D
REFRESH-INTERVAL:P3D
CALSCALE:GREGORIAN
BEGIN:VEVENT
DTSTART:20260512T130000Z
DTEND:20260512T140000Z
X-MICROSOFT-CDO-ALLDAYEVENT:FALSE
SUMMARY:Perry Chamber Ribbon Cutting for Acorns & Oaks
DESCRIPTION:Ribbon Cutting for newly remodeled space on the Eden Acres campus of Perry Lutheran Homes - Refreshed classrooms and growing environment designed to support children academically\, socially\, and spiritually. Enjoy light refreshments and learn more about expanding programs including preschool\, daycare\, and a new elementary K-2 microschool launching this fall.
X-ALT-DESC;FMTTYPE=text/html:<span style="font-size:18px\;">Ribbon Cutting for newly remodeled space on the Eden Acres campus of Perry Lutheran Homes - Refreshed classrooms and growing environment designed to support children academically\, socially\, and spiritually. Enjoy light refreshments and learn more about expanding programs&mdash\;including preschool\, daycare\, and a new elementary K-2 microschool launching this fall.&nbsp\;</span>
LOCATION:Acorns & Oaks Christian Academy located at Eden Acres Campus of Perry Lutheran Homes 1300 28th Street\, Perry
UID:e.3316.11964
SEQUENCE:3
DTSTAMP:20260420T221656Z
URL:https://business.perryiachamber.org/events/details/perry-chamber-ribbon-cutting-for-acorns-oaks-11964
END:VEVENT

END:VCALENDAR
