BEGIN:VCALENDAR
VERSION:2.0
PRODID:-//ChamberMaster//Event Calendar 2.0//EN
METHOD:PUBLISH
X-PUBLISHED-TTL:P3D
REFRESH-INTERVAL:P3D
CALSCALE:GREGORIAN
BEGIN:VEVENT
DTSTART:20260503T190000Z
DTEND:20260503T200000Z
X-MICROSOFT-CDO-ALLDAYEVENT:FALSE
SUMMARY:Perry Historical Society Presents "Popcorn Stands in Perry"
DESCRIPTION:Perry Historical Society Presents "Popcorn Stands in Perry"\n\nFollowed by monthly Historical Society Meeting
X-ALT-DESC;FMTTYPE=text/html:<span style="font-size:18px\;">Perry Historical Society Presents &quot\;Popcorn Stands in Perry&quot\;<br />\nFollowed by monthly Historical Society Meeting</span><br />\n&nbsp\;
LOCATION:Perry Elks Lodge #407 2823 Willis Avenue
UID:e.3316.11966
SEQUENCE:3
DTSTAMP:20260423T192028Z
URL:https://business.perryiachamber.org/events/details/perry-historical-society-presents-popcorn-stands-in-perry-11966
END:VEVENT

END:VCALENDAR
