BEGIN:VCALENDAR
VERSION:2.0
PRODID:-//ChamberMaster//Event Calendar 2.0//EN
METHOD:PUBLISH
X-PUBLISHED-TTL:P3D
REFRESH-INTERVAL:P3D
CALSCALE:GREGORIAN
BEGIN:VEVENT
DTSTART:20260301T200000Z
DTEND:20260301T210000Z
X-MICROSOFT-CDO-ALLDAYEVENT:FALSE
SUMMARY:Perry Iowa Historical Society Presents: The Theatres of Perry
DESCRIPTION:The Perry Iowa Historical Society Presents:  "The Theatres of Perry" Program
X-ALT-DESC;FMTTYPE=text/html:<span style="font-size:18px\;">The Perry Iowa Historical Society Presents:&nbsp\; &quot\;The Theatres of Perry&quot\; Program</span>
LOCATION:Perry Elks Lodge 2823 Willis Avenue
UID:e.3316.11550
SEQUENCE:3
DTSTAMP:20260420T085810Z
URL:https://business.perryiachamber.org/events/details/perry-iowa-historical-society-presents-the-theatres-of-perry-11550
END:VEVENT

END:VCALENDAR
