BEGIN:VCALENDAR
VERSION:2.0
PRODID:-//ChamberMaster//Event Calendar 2.0//EN
METHOD:PUBLISH
X-PUBLISHED-TTL:P3D
REFRESH-INTERVAL:P3D
CALSCALE:GREGORIAN
BEGIN:VEVENT
DTSTART:20240516T170000Z
DTEND:20240516T220000Z
X-MICROSOFT-CDO-ALLDAYEVENT:FALSE
SUMMARY:Perry Job Fair
DESCRIPTION:Perry Job Fair
X-ALT-DESC;FMTTYPE=text/html:Perry Job Fair
LOCATION:National Guard Armory 2930 Willis Avenue Perry
UID:e.3316.6687
SEQUENCE:3
DTSTAMP:20260424T155619Z
URL:https://business.perryiachamber.org/events/details/perry-job-fair-6687
END:VEVENT

END:VCALENDAR
