BEGIN:VCALENDAR
VERSION:2.0
PRODID:-//ChamberMaster//Event Calendar 2.0//EN
METHOD:PUBLISH
X-PUBLISHED-TTL:P3D
REFRESH-INTERVAL:P3D
CALSCALE:GREGORIAN
BEGIN:VEVENT
DTSTART:20240922T160000Z
DTEND:20240922T190000Z
X-MICROSOFT-CDO-ALLDAYEVENT:FALSE
SUMMARY:Perry PBA Pancake Breakfast Fundraiser
DESCRIPTION:Perry Boys Scouts of America\n\nPancake Breakfast Fundraiser\n\n\n\nAll you can eat pancakes\, served with a side of bacon and eggs.
X-ALT-DESC;FMTTYPE=text/html:<span style="font-size:18px\;">Perry Boys Scouts of America<br />\nPancake Breakfast Fundraiser<br />\n<br />\nAll you can eat pancakes\, served with a side of bacon and eggs.</span>
LOCATION:Perry First United Methodist Church 1100 3rd Street
UID:e.3316.6843
SEQUENCE:3
DTSTAMP:20260423T201644Z
URL:https://business.perryiachamber.org/events/details/perry-pba-pancake-breakfast-fundraiser-6843
END:VEVENT

END:VCALENDAR
