BEGIN:VCALENDAR
VERSION:2.0
PRODID:-//ChamberMaster//Event Calendar 2.0//EN
METHOD:PUBLISH
X-PUBLISHED-TTL:P3D
REFRESH-INTERVAL:P3D
CALSCALE:GREGORIAN
BEGIN:VEVENT
DTSTART:20240913T130000Z
DTEND:20240913T140000Z
X-MICROSOFT-CDO-ALLDAYEVENT:FALSE
SUMMARY:Ribbon Cutting at Mary Rose Collective
DESCRIPTION:Join us as we celebrate the change in ownership of this member businesses!  Stay for complimentary refreshments and networking following the ribbon cutting!
X-ALT-DESC;FMTTYPE=text/html:<span style="color: rgb(142\, 142\, 142)\; font-family: Raleway\, sans-serif\; font-size: 15px\;">Join us as we celebrate the change in ownership of this member businesses!&nbsp\; Stay for complimentary refreshments and networking following the ribbon cutting!</span>
LOCATION:1215 Warford Street Perry
UID:e.3316.76
SEQUENCE:3
DTSTAMP:20260424T012607Z
URL:https://business.perryiachamber.org/events/details/ribbon-cutting-at-mary-rose-collective-76
END:VEVENT

END:VCALENDAR
