BEGIN:VCALENDAR
VERSION:2.0
PRODID:-//ChamberMaster//Event Calendar 2.0//EN
METHOD:PUBLISH
X-PUBLISHED-TTL:P3D
REFRESH-INTERVAL:P3D
CALSCALE:GREGORIAN
BEGIN:VEVENT
DTSTART:20260923T130000Z
DTEND:20260923T213000Z
X-MICROSOFT-CDO-ALLDAYEVENT:FALSE
SUMMARY:Rock the Block: Habitat for Humanity
DESCRIPTION:Dallas County Habitat for Humanity will be hosting a volunteer powered home preservation event. We will be doing critical needs home repairs for homeowners and a community space project.
X-ALT-DESC;FMTTYPE=text/html:<span style="font-size:18px\;">Dallas County Habitat for Humanity will be hosting a volunteer powered home preservation event. We will be doing critical needs home repairs for homeowners and a community space project.</span>
LOCATION:Perry
UID:e.3316.11088
SEQUENCE:3
DTSTAMP:20260423T125711Z
URL:https://business.perryiachamber.org/events/details/rock-the-block-habitat-for-humanity-11088
END:VEVENT

END:VCALENDAR
