BEGIN:VCALENDAR
VERSION:2.0
PRODID:-//ChamberMaster//Event Calendar 2.0//EN
METHOD:PUBLISH
X-PUBLISHED-TTL:P3D
REFRESH-INTERVAL:P3D
CALSCALE:GREGORIAN
BEGIN:VEVENT
DTSTART:20240815T210000Z
DTEND:20240816T000000Z
X-MICROSOFT-CDO-ALLDAYEVENT:FALSE
SUMMARY:Showtime Dance & Tumbling Studio Registration
DESCRIPTION:Showtime Dance & Tumbling Studio Registration\n\nThursday\, August 15th\, 4-7p\n\nBack-to-School Farmers Market Performance at 6p
X-ALT-DESC;FMTTYPE=text/html:<span style="font-size:18px\;">Showtime Dance &amp\; Tumbling Studio Registration<br />\nThursday\, August 15th\, 4-7p<br />\nBack-to-School Farmers Market Performance at 6p</span>
LOCATION:Showtime Dance Studio 1108 2nd Street Perry
UID:e.3316.6800
SEQUENCE:3
DTSTAMP:20260424T041649Z
URL:https://business.perryiachamber.org/events/details/showtime-dance-tumbling-studio-registration-6800
END:VEVENT

END:VCALENDAR
