BEGIN:VCALENDAR
VERSION:2.0
PRODID:-//ChamberMaster//Event Calendar 2.0//EN
METHOD:PUBLISH
X-PUBLISHED-TTL:P3D
REFRESH-INTERVAL:P3D
CALSCALE:GREGORIAN
BEGIN:VEVENT
DTSTART:20240928T200000Z
DTEND:20240928T220000Z
X-MICROSOFT-CDO-ALLDAYEVENT:FALSE
SUMMARY:Springbrook State Park - Statewide Volunteer Day
DESCRIPTION:Lend a hand in Iowa's State Parks and Forests for our Statewide Volunteer Day! Seeking Volunteers to assist Springbrook State Park staff! For this event\, we'll improve pollinator plots by removing woody vegetation and possibly plant more plants. Training and tools provided. No experience necessary. Please bring a water bottle\, thick gloves\, sunscreen\, safety glasses\, bug spray\, snacks\, and pruners (if available). Please RSVP in advance: to Reaghan Oakleaf (Park Technician) at reaghan.oakleaf@dnr.iowa.gov or 641-474-3591.
X-ALT-DESC;FMTTYPE=text/html:Lend a hand in Iowa&#39\;s State Parks and Forests for our Statewide Volunteer Day! Seeking Volunteers to assist Springbrook State Park staff! For this event\, we&rsquo\;ll improve pollinator plots by removing woody vegetation and possibly plant more plants. Training and tools provided. No experience necessary. Please bring a water bottle\, thick gloves\, sunscreen\, safety glasses\, bug spray\, snacks\, and pruners (if available). Please RSVP in advance: to Reaghan Oakleaf (Park Technician) at reaghan.oakleaf@dnr.iowa.gov or 641-474-3591.
LOCATION:Meet at the Beach Shelter in the park (2437 160th Rd Guthrie Center\, 50155)
UID:e.3316.6849
SEQUENCE:3
DTSTAMP:20260423T234248Z
URL:https://business.perryiachamber.org/events/details/springbrook-state-park-statewide-volunteer-day-6849
END:VEVENT

END:VCALENDAR
