BEGIN:VCALENDAR
VERSION:2.0
PRODID:-//ChamberMaster//Event Calendar 2.0//EN
METHOD:PUBLISH
X-PUBLISHED-TTL:P3D
REFRESH-INTERVAL:P3D
CALSCALE:GREGORIAN
BEGIN:VEVENT
DTSTART:20240719T200000Z
DTEND:20240719T210000Z
X-MICROSOFT-CDO-ALLDAYEVENT:FALSE
SUMMARY:Teen Brush-Bot Races
DESCRIPTION:On your marks\, get set\, go! Teens are invited to come to the library on Friday\, July 19\, to make their own mini hexbots\, then race them around the community room. Join us from 3:00 pm to 4:00 pm for this challenge to both your building and racing skills. This is a free activity for ages 12 to 18 and no registration is required. For more information\, go to www.perry.lib.ia.us\, visit the library\, or call 515-465-3569.
X-ALT-DESC;FMTTYPE=text/html:<span style="color:black"><span style="font-family:arial\,sans-serif"><span style="font-size:12.0pt">On your marks\, get set\, go! Teens are invited to come to the library on Friday\, July 19\, to make their own mini hexbots\, then race them around the community room. Join us from 3:00 pm to 4:00 pm for this challenge to both your building and racing skills. This is a free activity for ages 12 to 18 and no registration is required.</span></span></span><span style="font-family:arial\,sans-serif"><span style="font-size:12.0pt"> For more information\, go to </span></span><a href="http://www.perry.lib.ia.us/"><span style="font-family:arial\,sans-serif"><span style="font-size:12.0pt">www.perry.lib.ia.us</span></span></a><span style="font-family:arial\,sans-serif"><span style="font-size:12.0pt">\, visit the library\, or call 515-465-3569.</span></span>
LOCATION:Perry Public Library Community Room
UID:e.3316.6771
SEQUENCE:3
DTSTAMP:20260424T054439Z
URL:https://business.perryiachamber.org/events/details/teen-brush-bot-races-6771
END:VEVENT

END:VCALENDAR
