BEGIN:VCALENDAR
VERSION:2.0
PRODID:-//ChamberMaster//Event Calendar 2.0//EN
METHOD:PUBLISH
X-PUBLISHED-TTL:P3D
REFRESH-INTERVAL:P3D
CALSCALE:GREGORIAN
BEGIN:VEVENT
DTSTART:20241130T163000Z
DTEND:20241201T053000Z
X-MICROSOFT-CDO-ALLDAYEVENT:FALSE
SUMMARY:Tinsel Trot 5K
DESCRIPTION:The Perry Booster Club will again host their Tinsel Trot 5k walk/run fundraiser event on Small Business Saturday! \n\nRegister by 11/19 to receive an event shirt. Registrations after that date will not include a shirt.\n\nSpecial Guest include Santa and the Perry Bluejay!\n\nFestive attire encouaged!
X-ALT-DESC;FMTTYPE=text/html:<div class="xdj266r x11i5rnm xat24cr x1mh8g0r x1vvkbs" style="margin: 0px\; overflow-wrap: break-word\; font-family: &quot\;Segoe UI Historic&quot\;\, &quot\;Segoe UI&quot\;\, Helvetica\, Arial\, sans-serif\; color: rgb(5\, 5\, 5)\; font-size: 15px\;"><span style="font-size:18px\;">The Perry Booster Club will again host their Tinsel Trot 5k walk/run fundraiser event on Small Business Saturday!&nbsp\;</span></div>\n\n<div class="x11i5rnm xat24cr x1mh8g0r x1vvkbs xtlvy1s" style="margin: 0.5em 0px 0px\; overflow-wrap: break-word\; font-family: &quot\;Segoe UI Historic&quot\;\, &quot\;Segoe UI&quot\;\, Helvetica\, Arial\, sans-serif\; color: rgb(5\, 5\, 5)\; font-size: 15px\;"><span style="font-size:18px\;">Register by 11/19&nbsp\;to receive an event shirt. Registrations after that date will not include a shirt.<br />\nSpecial Guest include Santa and the Perry Bluejay!<br />\nFestive attire encouaged!</span></div>\n
LOCATION:Raccoon Valley Bank Plaza on corner of Warford Street and 2nd Street in Downtown Perry
UID:e.3316.7987
SEQUENCE:3
DTSTAMP:20260423T033308Z
URL:https://business.perryiachamber.org/events/details/tinsel-trot-5k-7987
END:VEVENT

END:VCALENDAR
