BEGIN:VCALENDAR
VERSION:2.0
PRODID:-//ChamberMaster//Event Calendar 2.0//EN
METHOD:PUBLISH
X-PUBLISHED-TTL:P3D
REFRESH-INTERVAL:P3D
CALSCALE:GREGORIAN
BEGIN:VEVENT
DTSTART:20241105T220000Z
DTEND:20241105T230000Z
X-MICROSOFT-CDO-ALLDAYEVENT:FALSE
SUMMARY:Tween Zone (3rd to 5th Grades): Tuesdays
DESCRIPTION:This fall\, Tween Zone is a weekly library program for students in 3rd through 5th grades\, every Tuesday from 4:00 pm to 5:00 pm! Each week will include a fun activity. We may make crafts\, play games\, or even watch a movie! Our November activities include:\n\n \n\nNovember 5 - We will make dinosaur/dragon eggs with styrofoam eggs and push pins.\n\n \n\nNovember 12 - We will make dinosaur terrariums (mini "habitats" for toy dinosaurs).\n\n \n\nNovember 19 - We will play minute-to-win-it games.\n\n \n\nNovember 26   We will make pipe cleaner ninjas.\n\n \n\nThis is a free\, weekly activity and no registration is required. For more information\, call the library at 515-465-3569 or visit www.perry.lib.ia.us.
X-ALT-DESC;FMTTYPE=text/html:<span style="color:black"><span style="font-family:arial\,sans-serif"><span style="font-size:12.0pt">This fall\, Tween Zone is a weekly library program for students in 3rd through 5th grades\, every Tuesday from 4:00 pm to 5:00 pm! Each week will include a fun activity. We may make crafts\, play games\, or even watch a movie! Our November activities include:</span></span></span><br />\n&nbsp\;<br />\n<span style="color:black"><span style="font-family:arial\,sans-serif"><span style="font-size:12.0pt">November 5 - We will make dinosaur/dragon eggs with styrofoam eggs and push pins.</span></span></span><br />\n&nbsp\;<br />\n<span style="color:black"><span style="font-family:arial\,sans-serif"><span style="font-size:12.0pt">November 12 - We will make dinosaur terrariums (mini &quot\;habitats&quot\; for toy dinosaurs).</span></span></span><br />\n&nbsp\;<br />\n<span style="color:black"><span style="font-family:arial\,sans-serif"><span style="font-size:12.0pt">November 19 - We will play minute-to-win-it games.</span></span></span><br />\n&nbsp\;<br />\n<span style="color:black"><span style="font-family:arial\,sans-serif"><span style="font-size:12.0pt">November 26 &ndash\; We will make pipe cleaner ninjas.</span></span></span><br />\n&nbsp\;<br />\n<span style="color:black"><span style="font-family:arial\,sans-serif"><span style="font-size:12.0pt">This is a free\, weekly activity and no registration is required. For more information\, call the library at 515-465-3569 or visit </span></span></span><a href="http://www.perry.lib.ia.us/"><span style="font-family:arial\,sans-serif"><span style="font-size:12.0pt">www.perry.lib.ia.us</span></span></a><span style="color:black"><span style="font-family:arial\,sans-serif"><span style="font-size:12.0pt">.</span></span></span>
LOCATION:
UID:e.3316.7994
SEQUENCE:3
DTSTAMP:20260424T002323Z
URL:https://business.perryiachamber.org/events/details/tween-zone-3rd-to-5th-grades-tuesdays-7994
END:VEVENT

END:VCALENDAR
